BEGIN:VCALENDAR
VERSION:2.0
PRODID:-//eventon.com NONSGML v1.0//EN
CALSCALE:GREGORIAN
METHOD:PUBLISH
BEGIN:VEVENT
UID:69e738694f16d
DTSTAMP:20260421T084217Z
DTSTART:20220823
DTEND:20220824
LOCATION:Prince George\,  BC
SUMMARY:Big Canoe Skipper Course - Prince George (Private)
DESCRIPTION:SKIPPER COURSE: (Big Canoe Skills Intermediate Leader) Learning
  to lead a big canoe with a novice crew. Duration: 2 days Content: Paddli
 ng in a straight line\,  turns\,  docking\,  with and without the help of y
 our crew. Crew commands\,  and leading skills\,  rescues\,  big canoe safet
 y\,  paddling with other big canoes\,  what to[..]\nhttps://ridgewilderness
 .com/events/big-canoe-skipper-course-prince-george-private/
URL:https://ridgewilderness.com/events/big-canoe-skipper-course-prince-george-private/
END:VEVENT
END:VCALENDAR