BEGIN:VCALENDAR
VERSION:2.0
PRODID:-//eventon.com NONSGML v1.0//EN
CALSCALE:GREGORIAN
METHOD:PUBLISH
BEGIN:VEVENT
UID:69e73be073bd5
DTSTAMP:20260421T085704Z
DTSTART:20230725
DTEND:20230726
LOCATION:
SUMMARY:Silver Package 3
DESCRIPTION:Virtual preliminary meeting &#8211;  July 25th @ 7pm Practice 
 Journey @ Alouette Lake &#8211; July 27th + 28th Qualifying Journey @ Pitt 
 Lake &#8211; Aug 1st &#8211; Aug 3rd The Duke of Edinburgh Awards were crea
 ted as a way for each participant to set individual goals for personal impr
 ovement and[..]\nhttps://ridgewilderness.com/events/silver-package-3/
URL:https://ridgewilderness.com/events/silver-package-3/
END:VEVENT
END:VCALENDAR